BEGIN:VCALENDAR
VERSION:2.0
PRODID:-//TÜRK KAMU İŞLETMELERİ BİRLİĞİ | Resmi Web Sitesi - ECPv5.6.0//NONSGML v1.0//EN
CALSCALE:GREGORIAN
METHOD:PUBLISH
X-WR-CALNAME:TÜRK KAMU İŞLETMELERİ BİRLİĞİ | Resmi Web Sitesi
X-ORIGINAL-URL:https://www.tkib.gov.tr
X-WR-CALDESC:TÜRK KAMU İŞLETMELERİ BİRLİĞİ | Resmi Web Sitesi için etkinlikler
BEGIN:VTIMEZONE
TZID:Europe/Istanbul
BEGIN:STANDARD
TZOFFSETFROM:+0300
TZOFFSETTO:+0300
TZNAME:+03
DTSTART:20250101T000000
END:STANDARD
END:VTIMEZONE
BEGIN:VEVENT
DTSTART;VALUE=DATE:20250312
DTEND;VALUE=DATE:20250313
DTSTAMP:20260421T162029
CREATED:20240312T072022Z
LAST-MODIFIED:20250221T072251Z
UID:2814-1741737600-1741823999@www.tkib.gov.tr
SUMMARY:Türk Kamu İşletmeleri Birliği 27. Olağan Genel Kurul Toplantısı
DESCRIPTION:Birliğimizin 27.Olağan Genel Kurul Toplantısı 12 Mart 2025 Çarşamba günü saat 17:30’da TİGEM Genel Müdürlüğü Sosyal Tesisleri\, Başak Toplantı Salonu\, Gazi Mah. Ankara Bulvarı No:98 Yenimahalle/ANKARA adresinde yapılacaktır. \nÇoğunluk sağlanamadığı takdirde ikinci toplantı 19 Mart 2025 Çarşamba günü aynı yer ve saatte yapılacaktır. \nÖnemle duyurulur… \nGündem aşağıdaki gibidir. \nTKİB YÖNETİM KURULU \nGÜNDEM\n1- Açılış ve Saygı Duruşu \n2- Başkanlık Divanı’nın teşkili ve Başkanlık Divanı’na tutanakları imzalama yetkisi verilmesi \n3- 2023 ve 2024 yıllarına ait Yönetim ve Denetim Kurulu Raporlarının okunması\, görüşülmesi ve onaylanması \n4- 2023 ve 2024 yılları için düzenlenen bilanço ve gelir-gider tablolarının görüşülmesi ve onaylanması \n5- Yönetim ve Denetim Kurullarının ibrası \n6- 2025 ve 2026 yıllarına ait tahmini bütçelerin görüşülmesi ve onaylanması \n7- Üye giriş ve yıllık üyelik aidatlarının görüşülmesi \n8- Yönetim Kurulu’na verilmesi istenen yetkilerin görüşülerek karara bağlanması \n9- Yönetim ve Denetim Kurullarının seçimi \n10- Dilek ve temenniler \n11- Kapanış
URL:https://www.tkib.gov.tr/event/turk-kamu-isletmeleri-birligi-27-olagan-genel-kurul-toplantisi/
ATTACH;FMTTYPE=image/png:https://www.tkib.gov.tr/wp-content/uploads/fav_icon.png
END:VEVENT
END:VCALENDAR